BEGIN:VCALENDAR
VERSION:2.0
PRODID:-//Vida Footy - ECPv5.2.1//NONSGML v1.0//EN
CALSCALE:GREGORIAN
METHOD:PUBLISH
X-WR-CALNAME:Vida Footy
X-ORIGINAL-URL:https://vidafooty.com.au
X-WR-CALDESC:Events for Vida Footy
BEGIN:VTIMEZONE
TZID:Australia/Melbourne
BEGIN:STANDARD
TZOFFSETFROM:+1100
TZOFFSETTO:+1000
TZNAME:AEST
DTSTART:20210403T160000
END:STANDARD
BEGIN:DAYLIGHT
TZOFFSETFROM:+1000
TZOFFSETTO:+1100
TZNAME:AEDT
DTSTART:20211002T160000
END:DAYLIGHT
END:VTIMEZONE
BEGIN:VEVENT
DTSTART;TZID=Australia/Melbourne:20210406T090000
DTEND;TZID=Australia/Melbourne:20210408T120000
DTSTAMP:20210226T104926
CREATED:20191129T060419Z
LAST-MODIFIED:20210213T230025Z
UID:6549-1617699600-1617883200@vidafooty.com.au
SUMMARY:April 2021 Holiday Skills Program Week 1
DESCRIPTION:Vida Footy Programs are run during the school holiday periods or over a long weekend and offer a great opportunity for players to come along and get a high volume of education over consecutive days. The program holds various themes giving players experience in all aspects of the modern game.\n\n\n\nThe Program will run on Tuesday 6th\, Wednesday 7th & Thursday 8th of April\, 2021 from 9.00 am to 12 noon each day.\n  \nWe will be also running an additional three-day holiday program in the second week of the school holidays on Monday the 12th to Wednesday the 14th of April. \nThe Holiday Program will include and focus on: \n\nSkills with Video Analysis for players to see themselves in a closed skill and open skill situation\nGame-based activities challenging their decision-making process\nTackling technique\nProfessional coaching\nDynamic Warm up’s\nCooldown recovery phase\nModern game drills and activities\nBall handling activities with and without pressure\n\nWe will group players into age groups and skill level once registration is complete\nCLICK HERE TO SIGN UP NOW \nDetails:\nDates: Tuesday 6th\, Wednesday 7th & Thursday 8th of April\, 2021 \nTimes: 9 am to 12 noon \nLocation: Veneto Club\, Bulleen (Click here for map) \nCost: \n1 session – $66 \n2 sessions – $99 \n3 sessions – $132 \nIf this sounds like a program for you or your child\, sign up below. \n \nEach player will achieve a greater understating of the game by having an opportunity to get a high volume of quality education. These programs are designed to add value to your current football experiences and elevate the player to another level. It is a great opportunity to get involved in a Holiday Program with a different range of players with various experiences\, in a learning environment. \nFrom all our experiences of coaching junior & elite players in various sports in Australia & overseas\, we have seen that it’s the ones who put in the most\, in the right environment\, are the ones who meet their goals. \nCOVID Safe \nThe safety of all families and our coaching team is of utmost importance and the steps we are taking help to ensure everyone can enjoy the outdoors\, play the sport we love\, while helping the health and well-being of many of us.
URL:https://vidafooty.com.au/event/april-2021-holiday-skills-program/
LOCATION:Veneto Club\, 191 Bulleen Road\, Bulleen\, Victoria\, 3105\, Australia
ATTACH;FMTTYPE=image/png:https://vidafooty.com.au/wp-content/uploads/Holiday-Program-Vida-Footy.png
ORGANIZER;CN="Vince%20Dattoli":MAILTO:info@vidafooty.com.au
END:VEVENT
BEGIN:VEVENT
DTSTART;TZID=Australia/Melbourne:20210412T090000
DTEND;TZID=Australia/Melbourne:20210415T120000
DTSTAMP:20210226T104926
CREATED:20200213T234842Z
LAST-MODIFIED:20210213T232926Z
UID:6852-1618218000-1618488000@vidafooty.com.au
SUMMARY:April 2021 Holiday Skills Program Week 2
DESCRIPTION:Vida Footy Programs are run during the school holiday periods or over a long weekend and offer a great opportunity for players to come along and get a high volume of education over consecutive days. The program holds various themes giving players experience in all aspects of the modern game.\n\n\n\nThe Program will run on Monday 12th\, Tuesday 13th & Wednesday 14th of April\, 2021 from 9.00 am to 12 noon each day.\nThe Holiday Program will include and focus on: \n\nSkills with Video Analysis for players to see themselves in a closed skill and open skill situation\nGame-based activities challenging their decision-making process\nTackling technique\nProfessional coaching\nDynamic Warm up’s\nCooldown recovery phase\nModern game drills and activities\nBall handling activities with and without pressure\n\nWe will group players into age groups and skill level once registration is complete\nCLICK HERE TO SIGN UP NOW \nDetails:\nDates: Monday 12th\, Tuesday 13th & Wednesday 14th of April 2021 \nTimes: 9 am to 12 noon \nLocation: Veneto Club\, Bulleen (Click here for map) \nCost: \n1 session – $66 \n2 sessions – $99 \n3 sessions – $132 \nIf this sounds like a program for you or your child\, sign up below. \n \nEach player will achieve a greater understating of the game by having an opportunity to get a high volume of quality education. These programs are designed to add value to your current football experiences and elevate the player to another level. It is a great opportunity to get involved in a Holiday Program with a different range of players with various experiences\, in a learning environment. \nFrom all our experiences of coaching junior & elite players in various sports in Australia & overseas\, we have seen that it’s the ones who put in the most\, in the right environment\, are the ones who meet their goals. \nCOVID Safe \nThe safety of all families and our coaching team is of utmost importance and the steps we are taking help to ensure everyone can enjoy the outdoors\, play the sport we love\, while helping the health and well-being of many of us.
URL:https://vidafooty.com.au/event/april-2021-holiday-skills-program-week-2/
LOCATION:Veneto Club\, 191 Bulleen Road\, Bulleen\, Victoria\, 3105\, Australia
ATTACH;FMTTYPE=image/png:https://vidafooty.com.au/wp-content/uploads/Holiday-Program-Vida-Footy.png
ORGANIZER;CN="Vince%20Dattoli":MAILTO:info@vidafooty.com.au
END:VEVENT
BEGIN:VEVENT
DTSTART;VALUE=DATE:20210628
DTEND;VALUE=DATE:20210701
DTSTAMP:20210226T104926
CREATED:20191201T232719Z
LAST-MODIFIED:20210214T002124Z
UID:6594-1624838400-1625097599@vidafooty.com.au
SUMMARY:June 2021 Footy Skills Sessions
DESCRIPTION:Vida Footy Programs are run during the school holiday periods or over a long weekend and offer a great opportunity for players to come along and get a high volume of education over consecutive days. The program holds various themes giving players experience in all aspects of the modern game. \n\n\n\nThe Program will run on Monday 28th\, Tuesday 29th & Wednesday 30th of June\, 2021 from 9.00 am to 12 noon each day.\nThe Holiday Program will include and focus on: \n\nSkills with Video Analysis for players to see themselves in a closed skill and open skill situation\nGame-based activities challenging their decision-making process\nTackling technique\nProfessional coaching\nDynamic Warm up’s\nCooldown recovery phase\nModern game drills and activities\nBall handling activities with and without pressure\n\nWe will group players into age groups and skill level once registration is complete\nCLICK HERE TO SIGN UP NOW \nDetails:\nDates: Monday 28th\, Tuesday 29th & Wednesday 30th of June\, 2021 \nTimes: 9 am to 12 noon \nLocation: Veneto Club\, Bulleen (Click here for map) \nCost: \n1 session – $66 \n2 sessions – $99 \n3 sessions – $132 \nIf this sounds like a program for you or your child\, sign up below. \n \nEach player will achieve a greater understating of the game by having an opportunity to get a high volume of quality education. These programs are designed to add value to your current football experiences and elevate the player to another level. It is a great opportunity to get involved in a Holiday Program with a different range of players with various experiences\, in a learning environment. \nFrom all our experiences of coaching junior & elite players in various sports in Australia & overseas\, we have seen that it’s the ones who put in the most\, in the right environment\, are the ones who meet their goals. \nCOVID Safe \nThe safety of all families and our coaching team is of utmost importance and the steps we are taking help to ensure everyone can enjoy the outdoors\, play the sport we love\, while helping the health and well-being of many of us.
URL:https://vidafooty.com.au/event/june-2021-footy-skills-sessions/
LOCATION:Veneto Club\, 191 Bulleen Road\, Bulleen\, Victoria\, 3105\, Australia
ATTACH;FMTTYPE=image/jpeg:https://vidafooty.com.au/wp-content/uploads/Footy-Holiday-Program.jpg
ORGANIZER;CN="Vince%20Dattoli":MAILTO:info@vidafooty.com.au
END:VEVENT
BEGIN:VEVENT
DTSTART;TZID=Australia/Melbourne:20210705T090000
DTEND;TZID=Australia/Melbourne:20210707T120000
DTSTAMP:20210226T104926
CREATED:20200529T054846Z
LAST-MODIFIED:20210214T002959Z
UID:7384-1625475600-1625659200@vidafooty.com.au
SUMMARY:July 2021 Footy Skills Sessions
DESCRIPTION:Vida Footy Programs are run during the school holiday periods or over a long weekend and offer a great opportunity for players to come along and get a high volume of education over consecutive days. The program holds various themes giving players experience in all aspects of the modern game. \n\n\n\nThe Program will run on Monday 5th\, Tuesday 6th & Wednesday 7th of June\, 2021 from 9.00 am to 12 noon each day.\nThe Holiday Program will include and focus on: \n\nSkills with Video Analysis for players to see themselves in a closed skill and open skill situation\nGame-based activities challenging their decision-making process\nTackling technique\nProfessional coaching\nDynamic Warm up’s\nCooldown recovery phase\nModern game drills and activities\nBall handling activities with and without pressure\n\nWe will group players into age groups and skill level once registration is complete\nCLICK HERE TO SIGN UP NOW \nDetails:\nDates: Monday 5th\, Tuesday 6th & Wednesday 7th of June\, 2021 \nTimes: 9 am to 12 noon \nLocation: Veneto Club\, Bulleen (Click here for map) \nCost: \n1 session – $66 \n2 sessions – $99 \n3 sessions – $132 \nIf this sounds like a program for you or your child\, sign up below. \n \nEach player will achieve a greater understating of the game by having an opportunity to get a high volume of quality education. These programs are designed to add value to your current football experiences and elevate the player to another level. It is a great opportunity to get involved in a Holiday Program with a different range of players with various experiences\, in a learning environment. \nFrom all our experiences of coaching junior & elite players in various sports in Australia & overseas\, we have seen that it’s the ones who put in the most\, in the right environment\, are the ones who meet their goals. \nCOVID Safe \nThe safety of all families and our coaching team is of utmost importance and the steps we are taking help to ensure everyone can enjoy the outdoors\, play the sport we love\, while helping the health and well-being of many of us.
URL:https://vidafooty.com.au/event/july-2021-footy-skills-sessions/
LOCATION:Veneto Club\, 191 Bulleen Road\, Bulleen\, Victoria\, 3105\, Australia
ATTACH;FMTTYPE=image/png:https://vidafooty.com.au/wp-content/uploads/Holiday-Program-Vida-Footy.png
ORGANIZER;CN="Vince%20Dattoli":MAILTO:info@vidafooty.com.au
END:VEVENT
END:VCALENDAR